BEGIN:VCALENDAR
VERSION:2.0
METHOD:PUBLISH
X-WR-CALNAME:Whitikahu School |  April 01 2018- May 01 2018 | Filter\: 
PRODID:-//strange bird labs//Drupal iCal API//EN
BEGIN:VEVENT
DTSTAMP;VALUE=DATE-TIME:20181224T083916Z
DTSTART;VALUE=DATE-TIME:20180412T003000Z
DTEND;VALUE=DATE-TIME:20180412T003000Z
UID:http://whitikahu.school.nz/commonwealth-games
URL;VALUE=URI:http://whitikahu.school.nz/commonwealth-games
SUMMARY:Commonwealth Games
END:VEVENT
BEGIN:VEVENT
DTSTAMP;VALUE=DATE-TIME:20181224T083916Z
DTSTART;VALUE=DATE-TIME:20180413T004200Z
DTEND;VALUE=DATE-TIME:20020203
UID:http://whitikahu.school.nz/last-day-term-1
URL;VALUE=URI:http://whitikahu.school.nz/last-day-term-1
SUMMARY:Last day Term 1
END:VEVENT
BEGIN:VEVENT
DTSTAMP;VALUE=DATE-TIME:20181224T083916Z
DTSTART;VALUE=DATE-TIME:20180430T004400Z
DTEND;VALUE=DATE-TIME:20020203
UID:http://whitikahu.school.nz/1st-day-term-2
URL;VALUE=URI:http://whitikahu.school.nz/1st-day-term-2
SUMMARY:1st day Term 2
END:VEVENT
END:VCALENDAR
